BEGIN:VCALENDAR
VERSION:2.0
PRODID:-//ChamberMaster//Event Calendar 2.0//EN
METHOD:PUBLISH
X-PUBLISHED-TTL:P3D
REFRESH-INTERVAL:P3D
CALSCALE:GREGORIAN
BEGIN:VEVENT
DTSTART:20260703T200000Z
DTEND:20260704T020000Z
X-MICROSOFT-CDO-ALLDAYEVENT:FALSE
SUMMARY:Red Rhythm & Boom
DESCRIPTION:July 4\, 2026\, marks 250 years since the signing of the Declaration of Independence\, a pivotal moment in American history and our nation's journey to freedom. As America celebrates the 250th anniversary of its founding in 2026\, the City of Mason is proud to join communities across the country and the state of Ohio in commemorating this historic milestone.\n\n\n\n2026 America250 Red\, Rhythm and Boom fun will begin at 4 p.m. with access to kid zone activities such as a 9-hole putt-putt course\, slides and bounce houses\, carnival games\, a trackless train\, and more! Guests can enjoy a wide variety of food truck options as well as adult beverages provided by the American Legion Post 194 throughout the evening.\n\n\n\nStage entertainment will kick off at 6 p.m. with an opening performance by Vertical Horizon followed by the headline act Fitz and the Tantrums until 10 p.m. The event will conclude with a firework display and drone show presented by Rozzi Famous Fireworks beginning at 10 p.m.\n\n\n\nWe hope you can join us for this opportunity to celebrate Independence Day and showcase the quality of life offered in Mason.\n\n\n\n2026 Red\, Rhythm and Boom is FREE (no admission ticket is required). All lawn seating first come\, first serve beginning at 3:00 p.m. on Friday\, July 3. Mason's Red\, Rhythm and Boom will be held rain or shine. In the event of severe weather\, schedule of events may be modified or cancelled with event updates posted on the City of Mason's social media pages. Lakeside Drive between Mason Montgomery Road and Foxfield Drive as well as Mason Montgomery Road from Foxfield Drive to Lakeside Drive will close beginning at 8:00 a.m. on Friday\, July 3 for event set up. The Mason Municipal Center and Community Center Campus can be accessed using Nixon Park Drive and Foxfield Drive during this time. Detour signs will be posted.
X-ALT-DESC;FMTTYPE=text/html:July 4\, 2026\, marks 250 years since the signing of the Declaration of Independence\, a pivotal moment in American history and our nation&rsquo\;s journey to freedom. As America celebrates the 250th anniversary of its founding in 2026\, the City of Mason is proud to join communities across the country and the state of Ohio in commemorating this historic milestone.<br />\n<br />\n2026 America250 Red\, Rhythm and Boom fun will begin at 4 p.m. with access to kid zone activities such as a 9-hole putt-putt course\, slides and bounce houses\, carnival games\, a trackless train\, and more! Guests can enjoy a wide variety of food truck options as well as adult beverages provided by the American Legion Post 194 throughout the evening.<br />\n<br />\nStage entertainment will kick off at 6 p.m. with an opening performance by Vertical Horizon followed by the headline act Fitz and the Tantrums until 10 p.m. The event will conclude with a firework display and drone show presented by Rozzi Famous Fireworks beginning at 10 p.m.<br />\n<br />\nWe hope you can join us for this opportunity to celebrate Independence Day and showcase the quality of life offered in Mason.<br />\n<br />\n2026 Red\, Rhythm and Boom is FREE (no admission ticket is required). All lawn seating first come\, first serve beginning at 3:00 p.m. on Friday\, July 3. Mason&rsquo\;s Red\, Rhythm and Boom will be held rain or shine. In the event of severe weather\, schedule of events may be modified or cancelled with event updates posted on the City of Mason&rsquo\;s social media pages. Lakeside Drive between Mason Montgomery Road and Foxfield Drive as well as Mason Montgomery Road from Foxfield Drive to Lakeside Drive will close beginning at 8:00 a.m. on Friday\, July 3 for event set up. The Mason Municipal Center and Community Center Campus can be accessed using Nixon Park Drive and Foxfield Drive during this time. Detour signs will be posted.
LOCATION:Mason Municipal Center Campus
UID:e.200.25854
SEQUENCE:3
DTSTAMP:20260422T232720Z
URL:http://madechamber.chambermaster.com/events/details/red-rhythm-boom-25854
END:VEVENT

END:VCALENDAR
